BEGIN:VCALENDAR
VERSION:2.0
PRODID:-//CASA of Central Texas - ECPv6.15.20//NONSGML v1.0//EN
CALSCALE:GREGORIAN
METHOD:PUBLISH
X-WR-CALNAME:CASA of Central Texas
X-ORIGINAL-URL:https://www.casacentex.org
X-WR-CALDESC:Events for CASA of Central Texas
REFRESH-INTERVAL;VALUE=DURATION:PT1H
X-Robots-Tag:noindex
X-PUBLISHED-TTL:PT1H
BEGIN:VTIMEZONE
TZID:America/Chicago
BEGIN:DAYLIGHT
TZOFFSETFROM:-0600
TZOFFSETTO:-0500
TZNAME:CDT
DTSTART:20240310T080000
END:DAYLIGHT
BEGIN:STANDARD
TZOFFSETFROM:-0500
TZOFFSETTO:-0600
TZNAME:CST
DTSTART:20241103T070000
END:STANDARD
BEGIN:DAYLIGHT
TZOFFSETFROM:-0600
TZOFFSETTO:-0500
TZNAME:CDT
DTSTART:20250309T080000
END:DAYLIGHT
BEGIN:STANDARD
TZOFFSETFROM:-0500
TZOFFSETTO:-0600
TZNAME:CST
DTSTART:20251102T070000
END:STANDARD
BEGIN:DAYLIGHT
TZOFFSETFROM:-0600
TZOFFSETTO:-0500
TZNAME:CDT
DTSTART:20260308T080000
END:DAYLIGHT
BEGIN:STANDARD
TZOFFSETFROM:-0500
TZOFFSETTO:-0600
TZNAME:CST
DTSTART:20261101T070000
END:STANDARD
END:VTIMEZONE
BEGIN:VEVENT
DTSTART;VALUE=DATE:20250813
DTEND;VALUE=DATE:20251023
DTSTAMP:20260421T193820
CREATED:20250819T155728Z
LAST-MODIFIED:20250819T155728Z
UID:1957-1755043200-1761177599@www.casacentex.org
SUMMARY:Comal Card Haus
DESCRIPTION:Shuffle Up for a Cause! Join the Big Mike’s Poker League Fall Series at Comal Card Haus in New Braunfels — a thrilling 6-tournament series running August 13 to October 22\, all benefiting CASA of Central Texas!\n💰 $10 from every entry goes directly to CASA\, helping us advocate for children in foster care.\n🗓️ Tournament Dates: 8/13\, 8/27\, 9/10\, 9/24\, 10/8\, 10/22\n🏆 Championship Tournament: October 26\n📍 Location: 2124 Gabriels Place\, Ste 104\, New Braunfels\, TX\n🕡 Weekly Start Time: 6:30 PM\n🎟️ $200 Single Entry | No Add-ons\nWhether you’re a seasoned player or just love supporting a great cause\, this is your chance to go all in for kids in our community!\n#GivingBackToTheCommunity #Fundraising
URL:https://www.casacentex.org/event/comal-card-haus/
CATEGORIES:Fundraisers
ATTACH;FMTTYPE=image/png:https://www.casacentex.org/wp-content/uploads/2025/08/Untitled-design-13.png
END:VEVENT
BEGIN:VEVENT
DTSTART;VALUE=DATE:20250929
DTEND;VALUE=DATE:20251001
DTSTAMP:20260421T193820
CREATED:20250826T164745Z
LAST-MODIFIED:20250926T214659Z
UID:1966-1759104000-1759276799@www.casacentex.org
SUMMARY:CASA at Hangry Joe’s in San Marcos & Kyle
DESCRIPTION:🔥 Get Fired Up for CASA at Hangry Joe’s! 🔥\nEat like you’re hangry for change—because every spicy bite helps support children in foster care!\n🍗 Dine for a Cause with CASA! 🍟\n📍 Sept 29 at San Marcos (301 N. Guadalupe St.\, Suite 154\, San Marcos\, TX\, 78666)\n📍 Sept 30 at Kyle (920 Kohlers Crossing Ste 500 Kyle\, TX)\n🕔 5 PM – 8 PM\nJust show the flyer or mention CASA at checkout and 20% of your meal goes to CASA of Central Texas! We will have a promo code to track the fundraiser\, so we’ll need everyone who orders online or at the kiosks to use the promo code “hangryfund” all lower case for each event so we can track all the orders for the fundraiser participants.
URL:https://www.casacentex.org/event/casa-at-hangry-joes/
CATEGORIES:Fundraisers
ATTACH;FMTTYPE=image/png:https://www.casacentex.org/wp-content/uploads/2025/08/HangryJoesFundraiser.png
END:VEVENT
END:VCALENDAR