BEGIN:VCALENDAR
VERSION:2.0
PRODID:-//CASA of Central Texas - ECPv6.15.20//NONSGML v1.0//EN
CALSCALE:GREGORIAN
METHOD:PUBLISH
X-ORIGINAL-URL:https://www.casacentex.org
X-WR-CALDESC:Events for CASA of Central Texas
REFRESH-INTERVAL;VALUE=DURATION:PT1H
X-Robots-Tag:noindex
X-PUBLISHED-TTL:PT1H
BEGIN:VTIMEZONE
TZID:America/Chicago
BEGIN:DAYLIGHT
TZOFFSETFROM:-0600
TZOFFSETTO:-0500
TZNAME:CDT
DTSTART:20230312T080000
END:DAYLIGHT
BEGIN:STANDARD
TZOFFSETFROM:-0500
TZOFFSETTO:-0600
TZNAME:CST
DTSTART:20231105T070000
END:STANDARD
BEGIN:DAYLIGHT
TZOFFSETFROM:-0600
TZOFFSETTO:-0500
TZNAME:CDT
DTSTART:20240310T080000
END:DAYLIGHT
BEGIN:STANDARD
TZOFFSETFROM:-0500
TZOFFSETTO:-0600
TZNAME:CST
DTSTART:20241103T070000
END:STANDARD
BEGIN:DAYLIGHT
TZOFFSETFROM:-0600
TZOFFSETTO:-0500
TZNAME:CDT
DTSTART:20250309T080000
END:DAYLIGHT
BEGIN:STANDARD
TZOFFSETFROM:-0500
TZOFFSETTO:-0600
TZNAME:CST
DTSTART:20251102T070000
END:STANDARD
END:VTIMEZONE
BEGIN:VEVENT
DTSTART;TZID=America/Chicago:20240812T113000
DTEND;TZID=America/Chicago:20240812T130000
DTSTAMP:20260419T225346
CREATED:20240206T200222Z
LAST-MODIFIED:20240206T200222Z
UID:947-1723462200-1723467600@www.casacentex.org
SUMMARY:TBRI® Training: Connecting Principles
DESCRIPTION:TBRI® is an attachment-based\, trauma-informed intervention that is designed to meet the complex needs of vulnerable children. TBRI® uses Empowering Principles to address physical needs\, Connecting Principles for attachment needs\, and Correcting Principles to disarm fear-based behaviors. While the intervention is based on years of attachment\, sensory processing\, and neuroscience research\, the heartbeat of TBRI® is connection. Register here.
URL:https://www.casacentex.org/event/tbri-training-connecting-principles/
LOCATION:CASA Training & Support Center\, 2725 Hunter Road\, San Marcos\, TX\, 78666\, United States
CATEGORIES:Community Education
ATTACH;FMTTYPE=image/png:https://www.casacentex.org/wp-content/uploads/2024/02/Copy-of-TBRI-Mantra_social-3-600x600-1.png
END:VEVENT
END:VCALENDAR