BEGIN:VCALENDAR
VERSION:2.0
PRODID:-//CASA of Central Texas - ECPv6.15.20//NONSGML v1.0//EN
CALSCALE:GREGORIAN
METHOD:PUBLISH
X-WR-CALNAME:CASA of Central Texas
X-ORIGINAL-URL:https://www.casacentex.org
X-WR-CALDESC:Events for CASA of Central Texas
REFRESH-INTERVAL;VALUE=DURATION:PT1H
X-Robots-Tag:noindex
X-PUBLISHED-TTL:PT1H
BEGIN:VTIMEZONE
TZID:America/Chicago
BEGIN:DAYLIGHT
TZOFFSETFROM:-0600
TZOFFSETTO:-0500
TZNAME:CDT
DTSTART:20240310T080000
END:DAYLIGHT
BEGIN:STANDARD
TZOFFSETFROM:-0500
TZOFFSETTO:-0600
TZNAME:CST
DTSTART:20241103T070000
END:STANDARD
BEGIN:DAYLIGHT
TZOFFSETFROM:-0600
TZOFFSETTO:-0500
TZNAME:CDT
DTSTART:20250309T080000
END:DAYLIGHT
BEGIN:STANDARD
TZOFFSETFROM:-0500
TZOFFSETTO:-0600
TZNAME:CST
DTSTART:20251102T070000
END:STANDARD
BEGIN:DAYLIGHT
TZOFFSETFROM:-0600
TZOFFSETTO:-0500
TZNAME:CDT
DTSTART:20260308T080000
END:DAYLIGHT
BEGIN:STANDARD
TZOFFSETFROM:-0500
TZOFFSETTO:-0600
TZNAME:CST
DTSTART:20261101T070000
END:STANDARD
END:VTIMEZONE
BEGIN:VEVENT
DTSTART;TZID=America/Chicago:20250811T160000
DTEND;TZID=America/Chicago:20250811T170000
DTSTAMP:20260420T071923
CREATED:20250801T162350Z
LAST-MODIFIED:20250801T162350Z
UID:1945-1754928000-1754931600@www.casacentex.org
SUMMARY:Schertz Ribbon Cutting
DESCRIPTION:Join us on August 11\, 2025 at 4:00 PM at the Schertz Chamber office!
URL:https://www.casacentex.org/event/schertz-ribbon-cutting/
CATEGORIES:Outreach
ATTACH;FMTTYPE=image/png:https://www.casacentex.org/wp-content/uploads/2025/08/Schertz-Ribbon-Cutting-1.png
END:VEVENT
END:VCALENDAR